BEGIN:VCALENDAR
VERSION:2.0
PRODID:icalendar-ruby
CALSCALE:GREGORIAN
METHOD:PUBLISH
BEGIN:VEVENT
DTSTAMP:20260424T205150Z
UID:13-349475@brownschapelumc.org
DTSTART:20261018T150000Z
DTEND:20261018T160000Z
CLASS:PUBLIC
CREATED:20260424T143031
DESCRIPTION:
LAST-MODIFIED:20260424T143031
LOCATION:Sanctuary 
SUMMARY:Browns Chapel Sunday Morning Worship
URL;VALUE=URI:https://www.brownschapelumc.org/events/browns-chapel-sunday-m
 orning-worship/2026-10-18
END:VEVENT
END:VCALENDAR
