BEGIN:VCALENDAR
VERSION:2.0
PRODID:icalendar-ruby
CALSCALE:GREGORIAN
METHOD:PUBLISH
BEGIN:VEVENT
DTSTAMP:20260424T165246Z
UID:13-349440@brownschapelumc.org
DTSTART:20260927T150000Z
DTEND:20260927T160000Z
CLASS:PUBLIC
CREATED:20260424T114509
DESCRIPTION:
LAST-MODIFIED:20260424T114509
LOCATION:Sanctuary 
SUMMARY:Browns Chapel Sunday Morning Worship
URL;VALUE=URI:https://www.brownschapelumc.org/events/browns-chapel-sunday-m
 orning-worship/2026-09-27
END:VEVENT
END:VCALENDAR
