BEGIN:VCALENDAR
VERSION:2.0
PRODID:icalendar-ruby
CALSCALE:GREGORIAN
METHOD:PUBLISH
BEGIN:VEVENT
DTSTAMP:20260424T152502Z
UID:13-349407@brownschapelumc.org
DTSTART:20260920T150000Z
DTEND:20260920T160000Z
CLASS:PUBLIC
CREATED:20260424T085232
DESCRIPTION:
LAST-MODIFIED:20260424T085232
LOCATION:Sanctuary 
SUMMARY:Browns Chapel Sunday Morning Worship
URL;VALUE=URI:https://www.brownschapelumc.org/events/browns-chapel-sunday-m
 orning-worship/2026-09-20
END:VEVENT
END:VCALENDAR
