BEGIN:VCALENDAR
VERSION:2.0
PRODID:icalendar-ruby
CALSCALE:GREGORIAN
METHOD:PUBLISH
BEGIN:VEVENT
DTSTAMP:20260423T225937Z
UID:13-349299@brownschapelumc.org
DTSTART:20260628T150000Z
DTEND:20260628T160000Z
CLASS:PUBLIC
CREATED:20260423T173651
DESCRIPTION:
LAST-MODIFIED:20260423T173651
LOCATION:Sanctuary 
SUMMARY:Browns Chapel Sunday Morning Worship
URL;VALUE=URI:https://www.brownschapelumc.org/events/browns-chapel-sunday-m
 orning-worship/2026-06-28
END:VEVENT
END:VCALENDAR
