BEGIN:VCALENDAR
VERSION:2.0
PRODID:icalendar-ruby
CALSCALE:GREGORIAN
METHOD:PUBLISH
BEGIN:VEVENT
DTSTAMP:20260423T165257Z
UID:13-349231@brownschapelumc.org
DTSTART:20260531T150000Z
DTEND:20260531T160000Z
CLASS:PUBLIC
CREATED:20260423T114517
DESCRIPTION:
LAST-MODIFIED:20260423T114517
LOCATION:Sanctuary 
SUMMARY:Browns Chapel Sunday Morning Worship
URL;VALUE=URI:https://www.brownschapelumc.org/events/browns-chapel-sunday-m
 orning-worship/2026-05-31
END:VEVENT
END:VCALENDAR
