BEGIN:VCALENDAR
VERSION:2.0
PRODID:icalendar-ruby
CALSCALE:GREGORIAN
METHOD:PUBLISH
BEGIN:VEVENT
DTSTAMP:20260423T115325Z
UID:13-349164@brownschapelumc.org
DTSTART:20260510T150000Z
DTEND:20260510T160000Z
CLASS:PUBLIC
CREATED:20260422T232242
DESCRIPTION:
LAST-MODIFIED:20260422T232242
LOCATION:Sanctuary 
SUMMARY:Browns Chapel Sunday Morning Worship
URL;VALUE=URI:https://www.brownschapelumc.org/events/browns-chapel-sunday-m
 orning-worship/2026-05-10
END:VEVENT
END:VCALENDAR
