BEGIN:VCALENDAR
VERSION:2.0
PRODID:icalendar-ruby
CALSCALE:GREGORIAN
METHOD:PUBLISH
BEGIN:VEVENT
DTSTAMP:20260423T101118Z
UID:13-349163@brownschapelumc.org
DTSTART:20260503T150000Z
DTEND:20260503T160000Z
CLASS:PUBLIC
CREATED:20260422T232242
DESCRIPTION:
LAST-MODIFIED:20260422T232242
LOCATION:Sanctuary 
SUMMARY:Browns Chapel Sunday Morning Worship
URL;VALUE=URI:https://www.brownschapelumc.org/events/browns-chapel-sunday-m
 orning-worship/2026-05-03
END:VEVENT
END:VCALENDAR
